BEGIN:VCALENDAR
VERSION:2.0
PRODID:-//Bcyclet - ECPv5.16.3.1//NONSGML v1.0//EN
CALSCALE:GREGORIAN
METHOD:PUBLISH
X-ORIGINAL-URL:https://bcyclet.com/fr/
X-WR-CALDESC:évènements pour Bcyclet
REFRESH-INTERVAL;VALUE=DURATION:PT1H
X-Robots-Tag:noindex
X-PUBLISHED-TTL:PT1H
BEGIN:VTIMEZONE
TZID:UTC
BEGIN:STANDARD
TZOFFSETFROM:+0000
TZOFFSETTO:+0000
TZNAME:UTC
DTSTART:20220101T000000
END:STANDARD
END:VTIMEZONE
BEGIN:VEVENT
DTSTART;TZID=UTC:20220324T090000
DTEND;TZID=UTC:20220327T180000
DTSTAMP:20260426T033918
CREATED:20220201T152711Z
LAST-MODIFIED:20220217T100916Z
UID:8515-1648112400-1648404000@bcyclet.com
SUMMARY:BCYCLET Début de saison – La Dolce Vita
DESCRIPTION:Il est temps de retirer vôtre vélo du home trainer et de rouler la magnifique région du Ticino et du nord de l’Italie.
URL:https://bcyclet.com/fr/calendar/bcyclet-debut-de-saison-la-dolce-vita/
CATEGORIES:Endurance Ride
ATTACH;FMTTYPE=image/jpeg:https://bcyclet.com/wp-content/uploads/2022/01/KRX06076-scaled.jpg
END:VEVENT
END:VCALENDAR