BEGIN:VCALENDAR
VERSION:2.0
PRODID:-//Bcyclet - ECPv5.16.3.1//NONSGML v1.0//EN
CALSCALE:GREGORIAN
METHOD:PUBLISH
X-WR-CALNAME:Bcyclet
X-ORIGINAL-URL:https://bcyclet.com
X-WR-CALDESC:Events for Bcyclet
REFRESH-INTERVAL;VALUE=DURATION:PT1H
X-Robots-Tag:noindex
X-PUBLISHED-TTL:PT1H
BEGIN:VTIMEZONE
TZID:Europe/Paris
BEGIN:DAYLIGHT
TZOFFSETFROM:+0100
TZOFFSETTO:+0200
TZNAME:CEST
DTSTART:20250330T010000
END:DAYLIGHT
BEGIN:STANDARD
TZOFFSETFROM:+0200
TZOFFSETTO:+0100
TZNAME:CET
DTSTART:20251026T010000
END:STANDARD
END:VTIMEZONE
BEGIN:VEVENT
DTSTART;TZID=Europe/Paris:20250728T080000
DTEND;TZID=Europe/Paris:20250728T170000
DTSTAMP:20260421T015826
CREATED:20250301T151747Z
LAST-MODIFIED:20250301T152237Z
UID:22151-1753689600-1753722000@bcyclet.com
SUMMARY:Bcyclet Ride with support
DESCRIPTION:
URL:https://bcyclet.com/calendar/bcyclet-ride/
END:VEVENT
BEGIN:VEVENT
DTSTART;TZID=Europe/Paris:20250823T080000
DTEND;TZID=Europe/Paris:20250823T170000
DTSTAMP:20260421T015826
CREATED:20250301T151323Z
LAST-MODIFIED:20250301T151442Z
UID:22145-1755936000-1755968400@bcyclet.com
SUMMARY:BMC Day - Test ride
DESCRIPTION:
URL:https://bcyclet.com/calendar/bmc-day-test-ride/
END:VEVENT
END:VCALENDAR